BEGIN:VCALENDAR
VERSION:2.0
PRODID:-//Tukios.com/
BEGIN:VEVENT
UID:7d8d27a1-28f0-4f19-92a6-05875b5dcd05@www.guajardofuneralchapels.com
DTSTAMP:20260421T121805Z
DTSTART:20260420T201500Z
DTEND:20260420T211500Z
SUMMARY:Interment
DESCRIPTION:
URL:https://www.guajardofuneralchapels.com/obituaries/marcelo-aguilar
LOCATION: 15602 TX-493 Loop  Woodrow TX 79423
GEO:33.4520049;-101.8451713
END:VEVENT
END:VCALENDAR