BEGIN:VCALENDAR
VERSION:2.0
PRODID:-//Tukios.com/
BEGIN:VEVENT
UID:221c8d64-9f4e-4879-ad2e-f6f943b50bdf@www.guajardofuneralchapels.com
DTSTAMP:20260421T081514Z
DTSTART:20260420T190000Z
DTEND:20260420T200000Z
SUMMARY:Mass
DESCRIPTION:
URL:https://www.guajardofuneralchapels.com/obituaries/marcelo-aguilar
LOCATION: 102 N Avenue P  Lubbock TX 79401
GEO:33.5985254;-101.852999
END:VEVENT
END:VCALENDAR