BEGIN:VCALENDAR
VERSION:2.0
PRODID:-//Tukios.com/
BEGIN:VEVENT
UID:d5f5e369-416c-4ac3-863b-6662753245cc@www.guajardofuneralchapels.com
DTSTAMP:20260421T201825Z
DTSTART:20260421T160000Z
DTEND:20260422T020000Z
SUMMARY:Visitation
DESCRIPTION:
URL:https://www.guajardofuneralchapels.com/obituaries/jorge-calderon-calderon
LOCATION: 407 N University Ave  Lubbock TX 79415
GEO:33.6044316;-101.8710666
END:VEVENT
END:VCALENDAR